BEGIN:VCALENDAR
VERSION:2.0
PRODID:-//LakoceansEvents - ECPv6.15.16//NONSGML v1.0//EN
CALSCALE:GREGORIAN
METHOD:PUBLISH
X-ORIGINAL-URL:https://www.lakoceansevents.com
X-WR-CALDESC:Events for LakoceansEvents
REFRESH-INTERVAL;VALUE=DURATION:PT1H
X-Robots-Tag:noindex
X-PUBLISHED-TTL:PT1H
BEGIN:VTIMEZONE
TZID:UTC
BEGIN:STANDARD
TZOFFSETFROM:+0000
TZOFFSETTO:+0000
TZNAME:UTC
DTSTART:20240101T000000
END:STANDARD
END:VTIMEZONE
BEGIN:VEVENT
DTSTART;TZID=UTC:20251011T150000
DTEND;TZID=UTC:20251011T210000
DTSTAMP:20260421T203342
CREATED:20251002T145644Z
LAST-MODIFIED:20251002T203213Z
UID:27-1760194800-1760216400@www.lakoceansevents.com
SUMMARY:Grand opening of Lakoceansevents company.
DESCRIPTION:Join us for a day of creative expression and community bonding at EKA Hotel along Mombasa road! Featuring local musicians\, artists\, and crafters\, this event offers a platform for showcasing talent while fostering connections. From live performances to interactive art installations and workshops for all ages\, there’s something for everyone to enjoy. Bring your family and friends to experience the vibrant culture of our community in the beautiful setting .
URL:https://www.lakoceansevents.com/event/harmony-in-the-park-a-community-music-and-arts-festival/
LOCATION:Eka Hotel along Mombasa rd..\, eka hotel\, nairobi\, nairobi\, 00100\, Kenya
CATEGORIES:Community,Festival
ATTACH;FMTTYPE=image/jpeg:https://www.lakoceansevents.com/wp-content/uploads/2025/10/grand-opening-event-on-11-oct.jpg
ORGANIZER;CN="Community Outreach":MAILTO:info@communityoutreach.org
END:VEVENT
END:VCALENDAR